BEGIN:VCALENDAR
VERSION:2.0
PRODID:-//Culpeper Kiosk - ECPv6.15.16//NONSGML v1.0//EN
CALSCALE:GREGORIAN
METHOD:PUBLISH
X-WR-CALNAME:Culpeper Kiosk
X-ORIGINAL-URL:https://culpeper-kiosk.riggsward.com
X-WR-CALDESC:Events for Culpeper Kiosk
REFRESH-INTERVAL;VALUE=DURATION:PT1H
X-Robots-Tag:noindex
X-PUBLISHED-TTL:PT1H
BEGIN:VTIMEZONE
TZID:America/New_York
BEGIN:DAYLIGHT
TZOFFSETFROM:-0500
TZOFFSETTO:-0400
TZNAME:EDT
DTSTART:20240310T070000
END:DAYLIGHT
BEGIN:STANDARD
TZOFFSETFROM:-0400
TZOFFSETTO:-0500
TZNAME:EST
DTSTART:20241103T060000
END:STANDARD
BEGIN:DAYLIGHT
TZOFFSETFROM:-0500
TZOFFSETTO:-0400
TZNAME:EDT
DTSTART:20250309T070000
END:DAYLIGHT
BEGIN:STANDARD
TZOFFSETFROM:-0400
TZOFFSETTO:-0500
TZNAME:EST
DTSTART:20251102T060000
END:STANDARD
BEGIN:DAYLIGHT
TZOFFSETFROM:-0500
TZOFFSETTO:-0400
TZNAME:EDT
DTSTART:20260308T070000
END:DAYLIGHT
BEGIN:STANDARD
TZOFFSETFROM:-0400
TZOFFSETTO:-0500
TZNAME:EST
DTSTART:20261101T060000
END:STANDARD
END:VTIMEZONE
BEGIN:VEVENT
DTSTART;TZID=America/New_York:20251214T130000
DTEND;TZID=America/New_York:20251214T170000
DTSTAMP:20260421T083510
CREATED:20251117T185027Z
LAST-MODIFIED:20251117T185203Z
UID:1012-1765717200-1765731600@culpeper-kiosk.riggsward.com
SUMMARY:The Refinery’s Holiday Market
DESCRIPTION:Join The Refinery’s annual Holiday Market in partnership with SAFE and Forgotten Felines—enjoy free photos with Santa\, festive face painting\, and shopping from a wide variety of local vendors!
URL:https://culpeper-kiosk.riggsward.com/event/the-refinerys-holiday-market/
LOCATION:The Refinery\, 120 W. Culpeper St.\, Culpeper\, VA\, 22701
CATEGORIES:educational,family,social
ATTACH;FMTTYPE=image/jpeg:https://culpeper-kiosk.riggsward.com/wp-content/uploads/2025/11/Refinery.jpg
END:VEVENT
END:VCALENDAR