BEGIN:VCALENDAR
VERSION:2.0
PRODID:-//Culpeper Kiosk - ECPv6.15.16//NONSGML v1.0//EN
CALSCALE:GREGORIAN
METHOD:PUBLISH
X-ORIGINAL-URL:https://culpeper-kiosk.riggsward.com
X-WR-CALDESC:Events for Culpeper Kiosk
REFRESH-INTERVAL;VALUE=DURATION:PT1H
X-Robots-Tag:noindex
X-PUBLISHED-TTL:PT1H
BEGIN:VTIMEZONE
TZID:America/New_York
BEGIN:DAYLIGHT
TZOFFSETFROM:-0500
TZOFFSETTO:-0400
TZNAME:EDT
DTSTART:20240310T070000
END:DAYLIGHT
BEGIN:STANDARD
TZOFFSETFROM:-0400
TZOFFSETTO:-0500
TZNAME:EST
DTSTART:20241103T060000
END:STANDARD
BEGIN:DAYLIGHT
TZOFFSETFROM:-0500
TZOFFSETTO:-0400
TZNAME:EDT
DTSTART:20250309T070000
END:DAYLIGHT
BEGIN:STANDARD
TZOFFSETFROM:-0400
TZOFFSETTO:-0500
TZNAME:EST
DTSTART:20251102T060000
END:STANDARD
BEGIN:DAYLIGHT
TZOFFSETFROM:-0500
TZOFFSETTO:-0400
TZNAME:EDT
DTSTART:20260308T070000
END:DAYLIGHT
BEGIN:STANDARD
TZOFFSETFROM:-0400
TZOFFSETTO:-0500
TZNAME:EST
DTSTART:20261101T060000
END:STANDARD
END:VTIMEZONE
BEGIN:VEVENT
DTSTART;TZID=America/New_York:20251127T000000
DTEND;TZID=America/New_York:20251203T235959
DTSTAMP:20260421T101529
CREATED:20251117T183621Z
LAST-MODIFIED:20251117T185246Z
UID:977-1764201600-1764806399@culpeper-kiosk.riggsward.com
SUMMARY:Small Business Week
DESCRIPTION:Shop Small all Week Long\nNov. 27 – Dec. 3\nHistoric Downtown Culpeper\, VA 22701 \nEnjoy many in-store specials in Downtown Culpeper during Small Business Week! \nSmall businesses are the heartbeat of our community. \nThey’re the corner stores that create jobs. The hardware stores that help build our economy. And the mom and pop shops whose very presence makes a neighborhood\, your neighborhood. \nThe Shop Small Movement inspires people to shop with and support these small businesses as well as give back to the places that have given their communities so much. \nSMALL BUSINESS Week The Week We All Shop Small. Small Business Week is dedicated to supporting small businesses across the country. \nContact: 540-825-4416\nEmail: criinfo@culpeperdowntown.com
URL:https://culpeper-kiosk.riggsward.com/event/small-business-week/
CATEGORIES:social
ATTACH;FMTTYPE=image/jpeg:https://culpeper-kiosk.riggsward.com/wp-content/uploads/2025/11/Screenshot-2025-08-28-105156-300x274-1.jpg
END:VEVENT
BEGIN:VEVENT
DTSTART;TZID=America/New_York:20251127T080000
DTEND;TZID=America/New_York:20251127T100000
DTSTAMP:20260421T101529
CREATED:20251117T183743Z
LAST-MODIFIED:20251117T185243Z
UID:980-1764230400-1764237600@culpeper-kiosk.riggsward.com
SUMMARY:5K Turkey Trot & Kids’ Fun Run
DESCRIPTION:Runners & walkers\, join our holiday tradition – huffin’ & puffin’ before turkey & stuffing! With your race registration\, you’ll be supporting fitness scholarships for community members in need – last year 125 individuals were able to focus on improving their health with support from a scholarship!\nThe race route winds through the neighborhoods around Powell Wellness Center\, starting and ending in the center’s parking lot. Race shirts are guaranteed with registrations received through October 31.\nPlease visit the link at runsignup.com for race details & registration for the 5K\, Kids’ Fun Run\, race day childcare & volunteer opportunities.\nQuestions: PWC front desk\, 540-445-5406.
URL:https://culpeper-kiosk.riggsward.com/event/5k-turkey-trot-kids-fun-run/
CATEGORIES:educational,family,social,sports
ATTACH;FMTTYPE=image/png:https://culpeper-kiosk.riggsward.com/wp-content/uploads/2025/11/PWC-turkey-trot-2025-CTourism.png
END:VEVENT
END:VCALENDAR