BEGIN:VCALENDAR
VERSION:2.0
PRODID:-//Culpeper Kiosk - ECPv6.15.16//NONSGML v1.0//EN
CALSCALE:GREGORIAN
METHOD:PUBLISH
X-ORIGINAL-URL:https://culpeper-kiosk.riggsward.com
X-WR-CALDESC:Events for Culpeper Kiosk
REFRESH-INTERVAL;VALUE=DURATION:PT1H
X-Robots-Tag:noindex
X-PUBLISHED-TTL:PT1H
BEGIN:VTIMEZONE
TZID:America/New_York
BEGIN:DAYLIGHT
TZOFFSETFROM:-0500
TZOFFSETTO:-0400
TZNAME:EDT
DTSTART:20240310T070000
END:DAYLIGHT
BEGIN:STANDARD
TZOFFSETFROM:-0400
TZOFFSETTO:-0500
TZNAME:EST
DTSTART:20241103T060000
END:STANDARD
BEGIN:DAYLIGHT
TZOFFSETFROM:-0500
TZOFFSETTO:-0400
TZNAME:EDT
DTSTART:20250309T070000
END:DAYLIGHT
BEGIN:STANDARD
TZOFFSETFROM:-0400
TZOFFSETTO:-0500
TZNAME:EST
DTSTART:20251102T060000
END:STANDARD
BEGIN:DAYLIGHT
TZOFFSETFROM:-0500
TZOFFSETTO:-0400
TZNAME:EDT
DTSTART:20260308T070000
END:DAYLIGHT
BEGIN:STANDARD
TZOFFSETFROM:-0400
TZOFFSETTO:-0500
TZNAME:EST
DTSTART:20261101T060000
END:STANDARD
END:VTIMEZONE
BEGIN:VEVENT
DTSTART;TZID=America/New_York:20251123T070000
DTEND;TZID=America/New_York:20251123T220000
DTSTAMP:20260421T101529
CREATED:20251117T183337Z
LAST-MODIFIED:20251117T185250Z
UID:974-1763881200-1763935200@culpeper-kiosk.riggsward.com
SUMMARY:Culpeper Downtown Holiday Open House and Community Tree Lighting
DESCRIPTION:Culpeper Downtown will check all of your Holiday Must Haves\, during the Holiday Open House & Community Tree Lighting!\nSunday\, November 23\, throughout the day\, find holiday magic around every corner!\nWith a newly planted tree gracing our Depot District now and for many years to come\, we cannot wait to celebrate a day packed with Merchant Specials and Promotions\, as well as a Holiday Village at the Depot! This year’s Holiday Village will include carriage rides\, Sandy’s Face Painting\, Brennan’s Balloons\, Danny’s Bounce House\, community partner and sponsor booths\, and of course SANTA with Mrs. Claus!\nKeep yourself and the little ones full of laughter\, candy canes and merriment as we lead up to Tree Lighting! Just ahead of the tree lighting\, gather with fellow community members for festive holiday performances from talented local dancers and singers!\nLearn more by visiting www.culpeperdowntown. Stay tuned for additional details!
URL:https://culpeper-kiosk.riggsward.com/event/culpeper-downtown-holiday-open-house-and-community-tree-lighting/
CATEGORIES:family,social
ATTACH;FMTTYPE=image/jpeg:https://culpeper-kiosk.riggsward.com/wp-content/uploads/2025/11/Tree-Light.jpg
END:VEVENT
END:VCALENDAR