BEGIN:VCALENDAR
VERSION:2.0
PRODID:-//Culpeper Kiosk - ECPv6.15.16//NONSGML v1.0//EN
CALSCALE:GREGORIAN
METHOD:PUBLISH
X-WR-CALNAME:Culpeper Kiosk
X-ORIGINAL-URL:https://culpeper-kiosk.riggsward.com
X-WR-CALDESC:Events for Culpeper Kiosk
REFRESH-INTERVAL;VALUE=DURATION:PT1H
X-Robots-Tag:noindex
X-PUBLISHED-TTL:PT1H
BEGIN:VTIMEZONE
TZID:America/New_York
BEGIN:DAYLIGHT
TZOFFSETFROM:-0500
TZOFFSETTO:-0400
TZNAME:EDT
DTSTART:20240310T070000
END:DAYLIGHT
BEGIN:STANDARD
TZOFFSETFROM:-0400
TZOFFSETTO:-0500
TZNAME:EST
DTSTART:20241103T060000
END:STANDARD
BEGIN:DAYLIGHT
TZOFFSETFROM:-0500
TZOFFSETTO:-0400
TZNAME:EDT
DTSTART:20250309T070000
END:DAYLIGHT
BEGIN:STANDARD
TZOFFSETFROM:-0400
TZOFFSETTO:-0500
TZNAME:EST
DTSTART:20251102T060000
END:STANDARD
BEGIN:DAYLIGHT
TZOFFSETFROM:-0500
TZOFFSETTO:-0400
TZNAME:EDT
DTSTART:20260308T070000
END:DAYLIGHT
BEGIN:STANDARD
TZOFFSETFROM:-0400
TZOFFSETTO:-0500
TZNAME:EST
DTSTART:20261101T060000
END:STANDARD
END:VTIMEZONE
BEGIN:VEVENT
DTSTART;TZID=America/New_York:20251031T170000
DTEND;TZID=America/New_York:20251031T183000
DTSTAMP:20260421T101003
CREATED:20250820T145339Z
LAST-MODIFIED:20250820T150115Z
UID:770-1761930000-1761935400@culpeper-kiosk.riggsward.com
SUMMARY:Culpeper Downtown Trick or Treat
DESCRIPTION:Culpeper Renaissance\, Inc\, along with Culpeper Downtown Merchants invite all the little ghouls and goblins to kick off your Halloween fun with us!┬á Enjoy a safe and festive trick or treating experience\, winding through the charming and quaint shops of historic Culpeper Downtown. \n\n\nFriday\, October 31\, from 5pm to 6:30pm\, show off your costume while collecting more treats than tricks from participating Downtown businesses\, CRI\, Culpeper Police Department\, and more!┬á You are sure to have a howling good time\, whether dressed to scare or delight!\nStay tuned for more information!
URL:https://culpeper-kiosk.riggsward.com/event/culpeper-downtown-trick-or-treat/
LOCATION:East Davis Street\, E Davis Street\, Culpeper\, VA\, 22701\, United States
CATEGORIES:family,social
ATTACH;FMTTYPE=image/png:https://culpeper-kiosk.riggsward.com/wp-content/uploads/2025/08/2025-Downtown-Trick-or-Treat-FB-Header.png
END:VEVENT
END:VCALENDAR