BEGIN:VCALENDAR
VERSION:2.0
PRODID:-//Culpeper Kiosk - ECPv6.15.16//NONSGML v1.0//EN
CALSCALE:GREGORIAN
METHOD:PUBLISH
X-WR-CALNAME:Culpeper Kiosk
X-ORIGINAL-URL:https://culpeper-kiosk.riggsward.com
X-WR-CALDESC:Events for Culpeper Kiosk
REFRESH-INTERVAL;VALUE=DURATION:PT1H
X-Robots-Tag:noindex
X-PUBLISHED-TTL:PT1H
BEGIN:VTIMEZONE
TZID:America/New_York
BEGIN:DAYLIGHT
TZOFFSETFROM:-0500
TZOFFSETTO:-0400
TZNAME:EDT
DTSTART:20240310T070000
END:DAYLIGHT
BEGIN:STANDARD
TZOFFSETFROM:-0400
TZOFFSETTO:-0500
TZNAME:EST
DTSTART:20241103T060000
END:STANDARD
BEGIN:DAYLIGHT
TZOFFSETFROM:-0500
TZOFFSETTO:-0400
TZNAME:EDT
DTSTART:20250309T070000
END:DAYLIGHT
BEGIN:STANDARD
TZOFFSETFROM:-0400
TZOFFSETTO:-0500
TZNAME:EST
DTSTART:20251102T060000
END:STANDARD
BEGIN:DAYLIGHT
TZOFFSETFROM:-0500
TZOFFSETTO:-0400
TZNAME:EDT
DTSTART:20260308T070000
END:DAYLIGHT
BEGIN:STANDARD
TZOFFSETFROM:-0400
TZOFFSETTO:-0500
TZNAME:EST
DTSTART:20261101T060000
END:STANDARD
END:VTIMEZONE
BEGIN:VEVENT
DTSTART;TZID=America/New_York:20251025T190000
DTEND;TZID=America/New_York:20251025T210000
DTSTAMP:20260421T115640
CREATED:20251009T152535Z
LAST-MODIFIED:20251009T152641Z
UID:970-1761418800-1761426000@culpeper-kiosk.riggsward.com
SUMMARY:Culpeper Downtown’s Fall Family Movie Night
DESCRIPTION:It’s All Just a Bunch of Hocus Pocus during Culpeper Downtown’s Fall Family Movie Night! \nJoin your friends at Culpeper Renaissance\, Inc\, for the first ever Fall Family Movie Night\, taking place Saturday\, October 25th in Culpeper Downtown!  Bring your coziest fall blankets and favorite lawn chairs as we feature the 1993 Disney classic\, Hocus Pocus\, at the Depot! \nThis free\, family-friendly event kicks off at 7pm under the stars\, with a 7:30pm movie start.  Head downtown early to take advantage of a variety of merchant specials and promotions including themed crafts\, menus\, candy giveaways and more!  While tickets are not required\, we do encourage guests to RSVP here: https://forms.gle/L6o72gDjVEMcuoj77 \nPlease note\, this event is weather dependent.  No alcohol\, no pets and no solicitation permitted.  Be sure to like and follow Culpeper Renaissance\, Inc. on Facebook and Instagram to stay in the know on all things Culpeper Downtown or visit www.culpeperdowntown.com!  Questions?  Email crievents@culpeperdowntown.com or call 540-825-4416.
URL:https://culpeper-kiosk.riggsward.com/event/culpeper-downtowns-fall-family-movie-night/
CATEGORIES:family,social
ATTACH;FMTTYPE=image/png:https://culpeper-kiosk.riggsward.com/wp-content/uploads/2025/10/hocus-pocus-post-imgae.png
END:VEVENT
END:VCALENDAR