BEGIN:VCALENDAR
VERSION:2.0
PRODID:-//Culpeper Kiosk - ECPv6.15.16//NONSGML v1.0//EN
CALSCALE:GREGORIAN
METHOD:PUBLISH
X-ORIGINAL-URL:https://culpeper-kiosk.riggsward.com
X-WR-CALDESC:Events for Culpeper Kiosk
REFRESH-INTERVAL;VALUE=DURATION:PT1H
X-Robots-Tag:noindex
X-PUBLISHED-TTL:PT1H
BEGIN:VTIMEZONE
TZID:America/New_York
BEGIN:DAYLIGHT
TZOFFSETFROM:-0500
TZOFFSETTO:-0400
TZNAME:EDT
DTSTART:20240310T070000
END:DAYLIGHT
BEGIN:STANDARD
TZOFFSETFROM:-0400
TZOFFSETTO:-0500
TZNAME:EST
DTSTART:20241103T060000
END:STANDARD
BEGIN:DAYLIGHT
TZOFFSETFROM:-0500
TZOFFSETTO:-0400
TZNAME:EDT
DTSTART:20250309T070000
END:DAYLIGHT
BEGIN:STANDARD
TZOFFSETFROM:-0400
TZOFFSETTO:-0500
TZNAME:EST
DTSTART:20251102T060000
END:STANDARD
BEGIN:DAYLIGHT
TZOFFSETFROM:-0500
TZOFFSETTO:-0400
TZNAME:EDT
DTSTART:20260308T070000
END:DAYLIGHT
BEGIN:STANDARD
TZOFFSETFROM:-0400
TZOFFSETTO:-0500
TZNAME:EST
DTSTART:20261101T060000
END:STANDARD
END:VTIMEZONE
BEGIN:VEVENT
DTSTART;TZID=America/New_York:20251127T000000
DTEND;TZID=America/New_York:20251203T235959
DTSTAMP:20260421T064618
CREATED:20251117T183621Z
LAST-MODIFIED:20251117T185246Z
UID:977-1764201600-1764806399@culpeper-kiosk.riggsward.com
SUMMARY:Small Business Week
DESCRIPTION:Shop Small all Week Long\nNov. 27 – Dec. 3\nHistoric Downtown Culpeper\, VA 22701 \nEnjoy many in-store specials in Downtown Culpeper during Small Business Week! \nSmall businesses are the heartbeat of our community. \nThey’re the corner stores that create jobs. The hardware stores that help build our economy. And the mom and pop shops whose very presence makes a neighborhood\, your neighborhood. \nThe Shop Small Movement inspires people to shop with and support these small businesses as well as give back to the places that have given their communities so much. \nSMALL BUSINESS Week The Week We All Shop Small. Small Business Week is dedicated to supporting small businesses across the country. \nContact: 540-825-4416\nEmail: criinfo@culpeperdowntown.com
URL:https://culpeper-kiosk.riggsward.com/event/small-business-week/
CATEGORIES:social
ATTACH;FMTTYPE=image/jpeg:https://culpeper-kiosk.riggsward.com/wp-content/uploads/2025/11/Screenshot-2025-08-28-105156-300x274-1.jpg
END:VEVENT
BEGIN:VEVENT
DTSTART;TZID=America/New_York:20251201T000000
DTEND;TZID=America/New_York:20251201T235959
DTSTAMP:20260421T064618
CREATED:20251117T184027Z
LAST-MODIFIED:20251117T185229Z
UID:989-1764547200-1764633599@culpeper-kiosk.riggsward.com
SUMMARY:Cyber Monday
DESCRIPTION:Don’t fight the hustle and bustle this holiday season; check off that holiday shopping list from the comfort of your couch! Monday\, December\, 1\, look forward to Cyber Deals & Steals from your favorite Culpeper Downtown Merchants! Schedule shipping\, or plan to pick up the next time you’re in town!It’s easy to shop small & support local when Culpeper Downtown is this good! Stay tuned for a complete list of promotions! \nLearn more about Culpeper Downtown\, & CRI’s complete calendar of events by visiting www.culpeperdowntown.com!
URL:https://culpeper-kiosk.riggsward.com/event/cyber-monday/
CATEGORIES:social
ATTACH;FMTTYPE=image/jpeg:https://culpeper-kiosk.riggsward.com/wp-content/uploads/2025/11/Cyber.jpg
END:VEVENT
BEGIN:VEVENT
DTSTART;TZID=America/New_York:20251206T100000
DTEND;TZID=America/New_York:20251206T120000
DTSTAMP:20260421T064618
CREATED:20251117T184436Z
LAST-MODIFIED:20251117T185216Z
UID:998-1765015200-1765022400@culpeper-kiosk.riggsward.com
SUMMARY:Culpeper Downtown Winter Farmers Market
DESCRIPTION:Join your favorite Culpeper Downtown Farmers Market vendors for an exclusive Winter Market\, taking place at the East Davis Street parking lot (near The Depot!) from 9am to 12pm on Saturday December 6\, 13 and 20!\nShop seasonal produce\, meats\, eggs\, honey\, baked goods\, homemade soaps\, candles & more! Plus\, live music!\nMark your calendar now to visit the Market on December 20 to meet Santa and Mrs. Claus!
URL:https://culpeper-kiosk.riggsward.com/event/culpeper-downtown-winter-farmers-market/
CATEGORIES:educational,family,social
ATTACH;FMTTYPE=image/jpeg:https://culpeper-kiosk.riggsward.com/wp-content/uploads/2025/11/Farmers-Market.jpg
END:VEVENT
BEGIN:VEVENT
DTSTART;TZID=America/New_York:20251207T070000
DTEND;TZID=America/New_York:20251207T170000
DTSTAMP:20260421T064618
CREATED:20251117T184534Z
LAST-MODIFIED:20251117T185213Z
UID:1001-1765090800-1765126800@culpeper-kiosk.riggsward.com
SUMMARY:Holiday Sunday Funday
DESCRIPTION:Join Culpeper Renaissance\, along with Culpeper Downtown Merchants for a Kid inspired Holiday Sunday Funday!\nSupport small businesses\, while creating memories with your littles at every stop!\nSunday\, December 7\, enjoy various kid friendly specials & activities throughout Downtown\, including Brennan’s Balloons (2pm to 4pm) at Lily Rose & Co. and Caricature Artist Daniel Ryman at Culpeper Artisan Collective at PeaPod Atelier\, PLUS Santa & Mrs. Claus at Visit Culpeper Depot (2pm to 5pm)!\nYour day will culminate in a festive and magical ending as you watch The Culpeper Christmas Parade take over Main Street\, starting at 5pm!\n:\nLearn more about Culpeper Downtown\, & CRI’s complete calendar of events by visiting www.culpeperdowntown.com!
URL:https://culpeper-kiosk.riggsward.com/event/holiday-sunday-funday/
CATEGORIES:family,social
ATTACH;FMTTYPE=image/jpeg:https://culpeper-kiosk.riggsward.com/wp-content/uploads/2025/11/Fun-Day.jpg
END:VEVENT
BEGIN:VEVENT
DTSTART;TZID=America/New_York:20251207T170000
DTEND;TZID=America/New_York:20251207T190000
DTSTAMP:20260421T064618
CREATED:20251117T184640Z
LAST-MODIFIED:20251117T185208Z
UID:1004-1765126800-1765134000@culpeper-kiosk.riggsward.com
SUMMARY:Culpeper 2025 Christmas Parade
DESCRIPTION:Join us for one of Culpeper’s most cherished holiday traditions — the annual Culpeper Christmas Parade! Each year\, thousands gather along historic Main Street to enjoy dazzling floats\, festive music\, twinkling lights\, and the joyful spirit of the season. Bring your family\, friends\, and holiday cheer as the community comes together to celebrate Christmas in the heart of Culpeper. From marching bands to Santa’s grand arrival\, this is the can’t-miss event that kicks off the holidays in true small-town style! \nThe parade begins at Piedmont Street\, where participants line up and prepare their dazzling floats. From there\, the procession travels down Main Street\, passing the beautifully decorated shops\, restaurants\, and historic buildings that make downtown Culpeper so special. Spectators line both sides of Main Street to wave\, cheer\, and enjoy the sights and sounds of the season. The parade concludes at Mason Street\, marking the grand finale of this beloved community tradition. \n*Check back closer to event date for more details.
URL:https://culpeper-kiosk.riggsward.com/event/culpeper-2025-christmas-parade/
CATEGORIES:educational,family,social
ATTACH;FMTTYPE=image/jpeg:https://culpeper-kiosk.riggsward.com/wp-content/uploads/2025/11/IMG_2455-scaled-1.jpg
END:VEVENT
BEGIN:VEVENT
DTSTART;TZID=America/New_York:20251214T130000
DTEND;TZID=America/New_York:20251214T170000
DTSTAMP:20260421T064618
CREATED:20251117T185027Z
LAST-MODIFIED:20251117T185203Z
UID:1012-1765717200-1765731600@culpeper-kiosk.riggsward.com
SUMMARY:The Refinery’s Holiday Market
DESCRIPTION:Join The Refinery’s annual Holiday Market in partnership with SAFE and Forgotten Felines—enjoy free photos with Santa\, festive face painting\, and shopping from a wide variety of local vendors!
URL:https://culpeper-kiosk.riggsward.com/event/the-refinerys-holiday-market/
LOCATION:The Refinery\, 120 W. Culpeper St.\, Culpeper\, VA\, 22701
CATEGORIES:educational,family,social
ATTACH;FMTTYPE=image/jpeg:https://culpeper-kiosk.riggsward.com/wp-content/uploads/2025/11/Refinery.jpg
END:VEVENT
END:VCALENDAR